Workbook

Sheet Compta
B2: Trésorerie LPOL section GV Fitness | E2: 2024-2025
B3: Màj : | C3: =NOW() -> 46091.327 | D3: =NOW() -> 46091.327
A4: N° pièce | B4: Date | C4: Compte POL | D4: Libellé | E4: Recettes | F4: Dépenses | G4: Solde | H4: Pointage Crédit Mutuel (OUI) | I4: Compte | J4: Livret | K4: Caisse | L4: Date relevé
B7: 45536 | D7: Solde début de saison | I7: -699.18 | J7: 19096.33 | K7: 27.62
A8: 0 | B8: 45536 | C8: 157500 | D8: Provision pour trésorerie | E8: 500 | G8: =+G7+E8-F8 -> 500 | I8: =E8-F8 -> 500
A9: 1 | B9: 45536 | C9: 756800 | D9: Régularisation Produits constatés d'avance - Cotisations 2024/2025 | E9: 4117.5 | G9: =+G8+E9-F9 -> 4617.5 | I9: =E9-F9 -> 4117.5
A10: 2 | B10: 45536 | C10: 606400 | D10: Régularisation Charges constatées d'avance - Cartes adhérents LPOL GV Fitness 2024/2025 | F10: 198.74 | G10: =+G9+E10-F10 -> 4418.76 | I10: =E10-F10 -> -198.74
A11: 3 | B11: 45537 | C11: 756800 | D11: Cotisations reçues par CB 24-25 | E11: 67.5 | G11: =+G10+E11-F11 -> 4486.26 | H11: Oui | I11: =E11-F11 -> 67.5 | L11: 45540
A12: 4 | B12: 45537 | C12: 756800 | D12: Cotisations reçues par CB 24-25 | E12: 135 | G12: =+G11+E12-F12 -> 4621.26 | H12: Oui | I12: =E12-F12 -> 135 | L12: 45540
A13: 5 | B13: 45537 | C13: 756800 | D13: Cotisations reçues par CB 24-25 | E13: 135 | G13: =+G12+E13-F13 -> 4756.26 | H13: Oui | I13: =E13-F13 -> 135 | L13: 45540
A14: 6 | B14: 45537 | C14: 628100 | D14: Virement - Affiliation à la Fédération 2024/2025 | F14: 80 | G14: =+G13+E14-F14 -> 4676.26 | H14: Oui | I14: =E14-F14 -> -80 | L14: 45540
A15: 7 | B15: 45538 | C15: 756800 | D15: Cotisations reçues par CB 24-25 | E15: 675 | G15: =+G14+E15-F15 -> 5351.26 | H15: Oui | I15: =E15-F15 -> 675 | L15: 45540
A16: 8 | B16: 45539 | C16: 756800 | D16: Cotisations reçues par CB 24-25 | E16: 135 | G16: =+G15+E16-F16 -> 5486.26 | H16: Oui | I16: =E16-F16 -> 135 | L16: 45540
A17: 9 | B17: 45540 | C17: 756800 | D17: Cotisations reçues par CB 24-25 | E17: 675 | G17: =+G16+E17-F17 -> 6161.26 | H17: Oui | I17: =E17-F17 -> 675 | L17: 45540
A18: 10 | B18: 45541 | C18: 756800 | D18: Cotisations reçues par CB 24-25 | E18: 202.5 | G18: =+G17+E18-F18 -> 6363.76 | H18: Oui | I18: =E18-F18 -> 202.5 | L18: 45572
A19: 11 | B19: 45544 | C19: 756800 | D19: Cotisations reçues par CB 24-25 | E19: 540 | G19: =+G18+E19-F19 -> 6903.76 | H19: Oui | I19: =E19-F19 -> 540 | L19: 45572
A20: 12 | B20: 45544 | C20: 756800 | D20: Cotisations reçues par CB 24-25 | E20: 607.5 | G20: =+G19+E20-F20 -> 7511.26 | H20: Oui | I20: =E20-F20 -> 607.5 | L20: 45572
A21: 13 | B21: 45544 | C21: 756800 | D21: Cotisations reçues par CB 24-25 | E21: 270 | G21: =+G20+E21-F21 -> 7781.26 | H21: Oui | I21: =E21-F21 -> 270 | L21: 45572
A22: 14 | B22: 45545 | C22: 756800 | D22: Cotisations reçues par CB 24-25 | E22: 135 | G22: =+G21+E22-F22 -> 7916.26 | H22: Oui | I22: =E22-F22 -> 135 | L22: 45572
A23: 15 | B23: 45546 | C23: 756800 | D23: Cotisations reçues par CB 24-25 | E23: 405 | G23: =+G22+E23-F23 -> 8321.26 | H23: Oui | I23: =E23-F23 -> 405 | L23: 45572
A24: 16 | B24: 45547 | C24: 756800 | D24: Cotisations reçues par CB 24-25 | E24: 135 | G24: =+G23+E24-F24 -> 8456.26 | H24: Oui | I24: =E24-F24 -> 135 | L24: 45572
A25: 17 | B25: 45548 | C25: 756800 | D25: Cotisations reçues par CB 24-25 | E25: 135 | G25: =+G24+E25-F25 -> 8591.26 | H25: Oui | I25: =E25-F25 -> 135 | L25: 45572
A26: 18 | B26: 45551 | C26: 756800 | D26: Cotisations reçues par CB 24-25 | E26: 270 | G26: =+G25+E26-F26 -> 8861.26 | H26: Oui | I26: =E26-F26 -> 270 | L26: 45572
... A29: 21 | B29: 45552 | C29: 756800 | D29: Cotisations reçues par CB 24-25 | E29: 472.5 | G29: =+G28+E29-F29 -> 10008.76 | H29: Oui | I29: =E29-F29 -> 472.5 | L29: 45572
A30: 22 | B30: 45552 | C30: - | D30: Virement banque vers livret (5 400 €) | G30: =+G29+E30-F30 -> 10008.76 | H30: Oui | I30: -5400 | J30: 5400 | L30: 45572
A31: 23 | B31: 45552 | C31: 605100 | D31: Virement - Remboursement achat enceinte pour cours du jeudi gymnase Courtand | F31: 439.99 | G31: =+G30+E31-F31 -> 9568.77 | H31: Oui | I31: =E31-F31 -> -439.99 | L31: 45572
A32: 24 | B32: 45553 | C32: 756800 | D32: Cotisations reçues par CB 24-25 | E32: 405 | G32: =+G31+E32-F32 -> 9973.77 | H32: Oui | I32: =E32-F32 -> 405 | L32: 45572
A33: 25 | B33: 45553 | C33: 652100 | D33: Virement - Licences FFEPGV 2024/2025 | F33: 88.5 | G33: =+G32+E33-F33 -> 9885.27 | H33: Oui | I33: =E33-F33 -> -88.5 | L33: 45572
A34: 26 | B34: 45554 | C34: 756800 | D34: Cotisations reçues par CB 24-25 | E34: 540 | G34: =+G33+E34-F34 -> 10425.27 | H34: Oui | I34: =E34-F34 -> 540 | L34: 45572
A35: 27 | B35: 45555 | C35: 756800 | D35: Cotisations reçues par CB 24-25 | E35: 202.5 | G35: =+G34+E35-F35 -> 10627.77 | H35: Oui | I35: =E35-F35 -> 202.5 | L35: 45572
A36: 28 | B36: 45556 | C36: 606800 | D36: Virement - Remboursement reproduction clés pour placard gymnase Courtand Balizy | F36: 12 | G36: =+G35+E36-F36 -> 10615.77 | H36: Oui | I36: =E36-F36 -> -12 | L36: 45572
A37: 29 | B37: 45558 | C37: 756800 | D37: Cotisations reçues par CB 24-25 | E37: 202.5 | G37: =+G36+E37-F37 -> 10818.27 | H37: Oui | I37: =E37-F37 -> 202.5 | L37: 45572
A38: 30 | B38: 45558 | C38: 756800 | D38: Cotisations reçues par CB 24-25 | E38: 67.5 | G38: =+G37+E38-F38 -> 10885.77 | H38: Oui | I38: =E38-F38 -> 67.5 | L38: 45572
A39: 31 | B39: 45558 | C39: 756800 | D39: Cotisations reçues par CB 24-25 | E39: 135 | G39: =+G38+E39-F39 -> 11020.77 | H39: Oui | I39: =E39-F39 -> 135 | L39: 45572
A40: 32 | B40: 45559 | C40: 756800 | D40: Cotisations reçues par CB 24-25 | E40: 270 | G40: =+G39+E40-F40 -> 11290.77 | H40: Oui | I40: =E40-F40 -> 270 | L40: 45572
A41: 33 | B41: 45559 | C41: 756800 | D41: Cotisations 24-25 payées en espèces déposées en banque | E41: 1235 | G41: =+G40+E41-F41 -> 12525.77 | H41: Oui | I41: =E41-F41 -> 1235 | L41: 45572
A42: 34 | B42: 45559 | C42: - | D42: Dépôt espèces caisse en banque (5 €) | G42: =+G41+E42-F42 -> 12525.77 | H42: Oui | I42: 5 | K42: -5 | L42: 45572
A43: 35 | B43: 45560 | C43: 756800 | D43: Cotisations reçues par CB 24-25 | E43: 67.5 | G43: =+G42+E43-F43 -> 12593.27 | H43: Oui | I43: =E43-F43 -> 67.5 | L43: 45572
A44: 36 | B44: 45561 | C44: 756800 | D44: Cotisations reçues par CB 24-25 | E44: 270 | G44: =+G43+E44-F44 -> 12863.27 | H44: Oui | I44: =E44-F44 -> 270 | L44: 45572
A45: 37 | B45: 45562 | C45: 756800 | D45: Cotisations reçues par CB 24-25 | E45: 337.5 | G45: =+G44+E45-F45 -> 13200.77 | H45: Oui | I45: =E45-F45 -> 337.5 | L45: 45572
...

Sheet Bilan
A1: Bilan de la saison LPOL section : | F1: GV Fitness | I1: =Compta!E2 -> 2024-2025
A3: Recettes | G3: Dépenses
A5: (110000) Report à nouveau bénéficiaire | E5: 18424.77 | G5: (119000) Report à nouveau déficitaire
A7: Subvention du Conseil d'Administration | E7: =SUM(Compta!G572:G574) -> 5000 | G7: Fédération | K7: =SUM(Compta!G643:G644,Compta!G646:G652) -> 9349
A8: Subvention municipale | E8: =Compta!G566 -> 0
A9: Subvention départementale | E9: =Compta!G567 -> 0 | G9: Personnel et charges | K9: =SUM(Compta!G656:G659,Compta!G661:G663,Compta!G665:G674,Compta!G676:G677,Compta!G679:G682) -> 28959.18
A10: Subvention régionale | E10: =Compta!G568 -> 0
A11: Subvention d'Etat | E11: =Compta!G569 -> 0 | G11: Remboursement d'emprunt | K11: =SUM(Compta!G751:G752) -> 0
A12: Subvention des fédérations | E12: =Compta!G570 -> 0
A13: Autres subventions | E13: =Compta!G571 -> 0 | G13: Location immobilière | K13: =Compta!G705 -> 0
A15: Emprunt débloqué | E15: =Compta!G626 -> 0 | G15: Achat et entretien de matériels, équipements….. | K15: =SUM(Compta!G684:G688,Compta!G691,Compta!G698:G700,Compta!G706,Compta!G709:G711) -> 1931.31
A17: Cotisations | E17: =SUM(Compta!G576:G580) -> 39453.75 | G17: Frais administratifs | K17: =SUM(Compta!G654,Compta!G690,Compta!G692:G694,Compta!G718:G719,Compta!G721:G727,Compta!G744:G745,Compta!G747,Compta!G748:G749) -> 5285.62
A19: Dons | E19: =SUM(Compta!G582:G584) -> 55 | G19: Déplacements | K19: =SUM(Compta!G707,Compta!G734:G742) -> 0
A21: Stages | E21: =Compta!G586 -> 0 | G21: Manifestations | K21: =SUM(Compta!G696:G697,Compta!G730) -> 41.12
A23: Manifestations | E23: =SUM(Compta!G588:G589,Compta!G602:G603) -> 0 | G23: Assurances | K23: =SUM(Compta!G713:G716) -> 0
A25: Ventes de matériels, équipements ….. | E25: =SUM(Compta!G592:G595,Compta!G597:G600) -> 0 | G25: Formation | K25: =SUM(Compta!G720) -> 0
A27: Sponsoring | E27: =Compta!G590 -> 0 | G27: Publications | K27: =SUM(Compta!G729,Compta!G731:G732) -> 0
A29: Déplacements | E29: =SUM(Compta!G605:G609) -> 0 | G29: Frais financiers | K29: =SUM(Compta!G758:G759) -> 0
A31: Produits financiers | E31: =SUM(Compta!G620:G624) -> 1609.92 | G31: Dotations aux provisions | K31: =SUM(Compta!G761:G765) -> 0
A33: Provisions | E33: =SUM(Compta!G628:G634) -> 500
A35: Remboursement de charges par les sections | E35: =SUM(Compta!G616:G618) -> 0
B37: Total des recettes | E37: =SUM(E5:E36) -> 65043.44 | H37: Total des dépenses | K37: =SUM(K5:K36) -> 45566.23
B40: BILAN
B42: Recettes | D42: =E37 -> 65043.44
B44: Dépenses | D44: =K37 -> 45566.23
A46: 120000 | B46: Résultat bénéficiaire | D46: =IF(D42-D44>0,D42-D44,0) -> 19477.21
A47: 129000 | B47: Résultat déficitaire | D47: =IF(D42-D44<0,D42-D44,0) -> 0
A50: SITUATION de la TRESORERIE
A52: 120000 | B52: Résultat bénéficiaire | G52: =D46 -> 19477.21
A53: 129000 | B53: Résultat déficitaire | G53: =D47 -> 0
B55: Sommes dues par le C.A.
A56: 681510 | B56: Dotations aux provisions pour achat de matériel
A57: 681530 | B57: Dotations aux provisions pour organisation de manifestation
A58: 681540 | B58: Dotations aux provisions pour charges de personnel
A60: 740900 | B60: Subvention du C.A. à verser
A62: 740920 | B62: Avance sur subvention du C.A. de l'année suivante | G62: =Compta!G574 -> 0
B64: Somme disponible pour la saison prochaine | G64: =SUM(G52+G53+G56+G57+G58+G60-G62) -> 19477.21
C66: Emprunt : capital restant à embourser | G66: =Compta!E776 -> 0

Sheet Code Ligne compte
A1: CODE COMPTES POL TRAMPOLINE GENERAL
A3: 605100 | B3: Achats de matériel | C3: =CONCATENATE(A3," ",B3) -> 605100 Achats de matériel
A4: 605200 | B4: Achats d'équipements sportifs | C4: =CONCATENATE(A4," ",B4) -> 605200 Achats d'équipements sportifs
A5: 605210 | B5: Achats d'équipements pour entraineurs | C5: =CONCATENATE(A5," ",B5) -> 605210 Achats d'équipements pour entraineurs
A6: 605220 | B6: Achats d'équipements pour sportifs | C6: =CONCATENATE(A6," ",B6) -> 605220 Achats d'équipements pour sportifs
A7: 605400 | B7: Achats de coupes, trophées, médailles | C7: =CONCATENATE(A7," ",B7) -> 605400 Achats de coupes, trophées, médailles
A8: 606200 | B8: Fournitures non stockables | C8: =CONCATENATE(A8," ",B8) -> 606200 Fournitures non stockables
A9: 606300 | B9: Fournitures d'entretien et petit matériel | C9: =CONCATENATE(A9," ",B9) -> 606300 Fournitures d'entretien et petit matériel
A10: 606400 | B10: Fournitures administratives | C10: =CONCATENATE(A10," ",B10) -> 606400 Fournitures administratives
A11: 606500 | B11: Fourniture médicales | C11: =CONCATENATE(A11," ",B11) -> 606500 Fourniture médicales
A12: 606800 | B12: Fournitures diverses | C12: =CONCATENATE(A12," ",B12) -> 606800 Fournitures diverses
A13: 607100 | B13: Achats aliments | C13: =CONCATENATE(A13," ",B13) -> 607100 Achats aliments
A14: 607200 | B14: Achats boissons | C14: =CONCATENATE(A14," ",B14) -> 607200 Achats boissons
... A116: 768000 | B116: Autres produits financiers | C116: =CONCATENATE(A116," ",B116) -> 768000 Autres produits financiers
C117: =CONCATENATE(A117," ",B117)

Sheet Compta (2)
C2: Trésorerie saison : | D2: 2019-2020
A4: Date | B4: Compte POL | C4: Libellé | D4: Recettes | E4: Dépenses | F4: Solde | G4: Pointage Crédit Mutuel (OUI)
E5: Solde N-1 | F5: =Compta!G5 -> 0
A7: =Compta!B7 -> 45536 | B7: =Compta!C7 -> 0 | C7: =Compta!D7 -> Solde début de saison | D7: =Compta!E7 -> 0 | E7: =Compta!F7 -> 0 | F7: =+F5+D7-E7 -> 0 | G7: =Compta!H7 -> 0
A8: =Compta!B9 -> 45536 | B8: =Compta!C9 -> 756800 | C8: =Compta!D9 -> Régularisation Produits constatés d'avance - Cotisations 2024/2025 | D8: =Compta!E9 -> 4117.5 | E8: =Compta!F9 -> 0 | F8: =+F6+D8-E8 -> 4117.5 | G8: =Compta!H9 -> 0
A9: =Compta!B10 -> 45536 | B9: =Compta!C10 -> 606400 | C9: =Compta!D10 -> Régularisation Charges constatées d'avance - Cartes adhérents LPOL GV Fitness 2024/2025 | D9: =Compta!E10 -> 0 | E9: =Compta!F10 -> 198.74 | F9: =+F7+D9-E9 -> -198.74 | G9: =Compta!H10 -> 0
A10: =Compta!B11 -> 45537 | B10: =Compta!C11 -> 756800 | C10: =Compta!D11 -> Cotisations reçues par CB 24-25 | D10: =Compta!E11 -> 67.5 | E10: =Compta!F11 -> 0 | F10: =+F8+D10-E10 -> 4185 | G10: =Compta!H11 -> Oui
A11: =Compta!B12 -> 45537 | B11: =Compta!C12 -> 756800 | C11: =Compta!D12 -> Cotisations reçues par CB 24-25 | D11: =Compta!E12 -> 135 | E11: =Compta!F12 -> 0 | F11: =+F9+D11-E11 -> -63.74 | G11: =Compta!H12 -> Oui
A12: =Compta!B13 -> 45537 | B12: =Compta!C13 -> 756800 | C12: =Compta!D13 -> Cotisations reçues par CB 24-25 | D12: =Compta!E13 -> 135 | E12: =Compta!F13 -> 0 | F12: =+F10+D12-E12 -> 4320 | G12: =Compta!H13 -> Oui
A13: =Compta!B14 -> 45537 | B13: =Compta!C14 -> 628100 | C13: =Compta!D14 -> Virement - Affiliation à la Fédération 2024/2025 | D13: =Compta!E14 -> 0 | E13: =Compta!F14 -> 80 | F13: =+F11+D13-E13 -> -143.74 | G13: =Compta!H14 -> Oui
A14: =Compta!B15 -> 45538 | B14: =Compta!C15 -> 756800 | C14: =Compta!D15 -> Cotisations reçues par CB 24-25 | D14: =Compta!E15 -> 675 | E14: =Compta!F15 -> 0 | F14: =+F12+D14-E14 -> 4995 | G14: =Compta!H15 -> Oui
A15: =Compta!B16 -> 45539 | B15: =Compta!C16 -> 756800 | C15: =Compta!D16 -> Cotisations reçues par CB 24-25 | D15: =Compta!E16 -> 135 | E15: =Compta!F16 -> 0 | F15: =+F13+D15-E15 -> -8.74 | G15: =Compta!H16 -> Oui
A16: =Compta!B17 -> 45540 | B16: =Compta!C17 -> 756800 | C16: =Compta!D17 -> Cotisations reçues par CB 24-25 | D16: =Compta!E17 -> 675 | E16: =Compta!F17 -> 0 | F16: =+F14+D16-E16 -> 5670 | G16: =Compta!H17 -> Oui
A17: =Compta!B18 -> 45541 | B17: =Compta!C18 -> 756800 | C17: =Compta!D18 -> Cotisations reçues par CB 24-25 | D17: =Compta!E18 -> 202.5 | E17: =Compta!F18 -> 0 | F17: =+F15+D17-E17 -> 193.76 | G17: =Compta!H18 -> Oui
A18: =Compta!B19 -> 45544 | B18: =Compta!C19 -> 756800 | C18: =Compta!D19 -> Cotisations reçues par CB 24-25 | D18: =Compta!E19 -> 540 | E18: =Compta!F19 -> 0 | F18: =+F16+D18-E18 -> 6210 | G18: =Compta!H19 -> Oui
A19: =Compta!B20 -> 45544 | B19: =Compta!C20 -> 756800 | C19: =Compta!D20 -> Cotisations reçues par CB 24-25 | D19: =Compta!E20 -> 607.5 | E19: =Compta!F20 -> 0 | F19: =+F17+D19-E19 -> 801.26 | G19: =Compta!H20 -> Oui
... A549: =Compta!B550 -> 0 | B549: =Compta!C550 -> 0 | C549: =Compta!D550 -> 0 | D549: =Compta!E550 -> 0 | E549: =Compta!F550 -> 0 | F549: =+F547+D549-E549 -> -115.33 | G549: =Compta!H550 -> 0
A552: Total recettes | C552: =SUM(D6:D549) -> 46118.67 | D552: Solde | E552: Solde
A553: Total dépenses | C553: =SUM(E6:E549) -> 45566.23 | D553: année N-1 | E553: jour J
A554: Solde année N-1 | C554: =Compta!E554 -> 18424.77
A555: Solde | C555: =C552-C553+C554 -> 18977.21 | E555: =C555+D555 -> 18977.21
C557: Emprunt : capital débloqué | F557: =SUMIF($B$6:$B$551,"=164000",$D$6:$D$551) -> 0
C558: Emprunt : capital remboursé | F558: =SUMIF($B$6:$B$551,"=164000",$E$6:$E$551) -> 0
C559: Emprunt : capital restant à rembourser | F559: =F557-F558 -> 0
A562: COMPTE D'EXPLOITATION SAISON : Sept_2023 à fin août_2024
A565: Recettes | G565: R
G566: Y
B567: 740100 | C567: Subvention municipale | F567: =SUMIF($B$6:$B$551,"=740100",$D$6:$D$551) -> 0 | G567: =F567/F637 -> 0
B568: 740200 | C568: Subvention départementale | F568: =SUMIF($B$6:$B$551,"=740200",$D$6:$D$551) -> 0 | G568: =F568/F637 -> 0
B569: 740300 | C569: Subvention régionale | F569: =SUMIF($B$6:$B$551,"=740300",$D$6:$D$551) -> 0 | G569: =F569/F637 -> 0
B570: 740400 | C570: Subvention d'Etat | F570: =SUMIF($B$6:$B$551,"=740400",$D$6:$D$551) -> 0 | G570: =F570/F637 -> 0
B571: 740500 | C571: Subvention des fédérations | F571: =SUMIF($B$6:$B$551,"=740500",$D$6:$D$551) -> 0 | G571: =F571/F637 -> 0
B572: 740600 | C572: Autres subventions | F572: =SUMIF($B$6:$B$551,"=740600",$D$6:$D$551) -> 0 | G572: =F572/F637 -> 0
B573: 740900 | C573: Subvention du Conseil d'Administration | F573: =SUMIF($B$6:$B$551,"=740900",$D$6:$D$551) -> 5000 | G573: =F573/F637 -> 0.10841596
B574: 740910 | C574: Subvention du C.A. de l'année précédente | F574: =SUMIF($B$6:$B$551,"=740910",$D$6:$D$551) -> 0 | G574: =F574/F637 -> 0
B575: 740920 | C575: Avance sur subvention du C.A. de l'année suivante | F575: =SUMIF($B$6:$B$551,"=740920",$D$6:$D$551) -> 0 | G575: =F575/F637 -> 0
G576: X
B577: 756100 | C577: Cotisations des membres actifs | F577: =SUMIF($B$6:$B$551,"=756100",$D$6:$D$551) -> 0 | G577: =F577/F637 -> 0
B578: 756300 | C578: Cotisations des membres honoraires | F578: =SUMIF($B$6:$B$551,"=756300",$D$6:$D$551) -> 0 | G578: =F578/F637 -> 0
B579: 756400 | C579: Cotisations des membres bienfaiteurs | F579: =SUMIF($B$6:$B$551,"=756400",$D$6:$D$551) -> 0 | G579: =F579/F637 -> 0
...

Sheet Recettes
P3: =Compta!D552 -> 46618.67

Sheet Dépenses
P9: =Compta!D553 -> 45566.23
A49: Licences
A50: Engagements sports individuels national et +
A51: Engagements sports individuels régional et -
A52: Personnel encadrement technique
A53: Cotisations URSSAF
A54: Achats d'équipements sportifs
A55: Achats d'équipements pour entraineurs
A56: Achats d'équipements pour sportifs
A57: Fournitures d'entretien et petit matériel
A58: Fournitures administratives
A59: Achats aliments
A60: Achats boissons
... A67: Affranchissements
B68: =SUM(B49:B67) -> 0
